BEGIN:VCALENDAR
VERSION:2.0
PRODID:-//Event Calendar - ECPv6.9.0//NONSGML v1.0//EN
CALSCALE:GREGORIAN
METHOD:PUBLISH
X-ORIGINAL-URL:https://gulick.springfield.edu/event-calendar
X-WR-CALDESC:Events for Event Calendar
REFRESH-INTERVAL;VALUE=DURATION:PT1H
X-Robots-Tag:noindex
X-PUBLISHED-TTL:PT1H
BEGIN:VTIMEZONE
TZID:America/New_York
BEGIN:DAYLIGHT
TZOFFSETFROM:-0500
TZOFFSETTO:-0400
TZNAME:EDT
DTSTART:20260308T070000
END:DAYLIGHT
BEGIN:STANDARD
TZOFFSETFROM:-0400
TZOFFSETTO:-0500
TZNAME:EST
DTSTART:20261101T060000
END:STANDARD
END:VTIMEZONE
BEGIN:VEVENT
DTSTART;TZID=America/New_York:20260410T133000
DTEND;TZID=America/New_York:20260410T143000
DTSTAMP:20260425T072020
CREATED:20260325T195528Z
LAST-MODIFIED:20260325T195954Z
UID:10000997-1775827800-1775831400@gulick.springfield.edu
SUMMARY:The 11th Annual Tom Waddell Symposium for Sports and Values at Springfield College
DESCRIPTION:It’s No Joke\nHow athletes and teams need to support each other to build community \n\nSpringfield College alumnus and former U.S. Olympian Tom Waddell ’59 was a champion of inclusion. He believed that sports—for all its inherently competitive nature—could be a unifying force. Indeed\, he lived his brief life with a conviction that sports could\, and should\, help to build community. \nOf course\, it doesn’t always work that way. Oftentimes\, sports serve as a wedge\, rather than as a bridge. Even at moments of triumph\, such as the recent gold medal victories by the U.S. women’s and men’s hockey teams in Italy\, we have seen where the sports culture can be used to divide\, rather than to unite. \nAt Springfield College\, competitive athletics are part of who we are—but through our Humanics philosophy\, we strive to make sport a powerful driver of connection and community. This year’s symposium brings that vision to life\, featuring a dynamic conversation with Women’s Basketball Head Coach Naomi Graves and Men’s Basketball Head Coach Mike McClendon. Also\, student-athletes from both teams will share how they are building a culture of mutual support. The event will also spotlight innovative efforts across the Department of Athletics that are strengthening community and redefining what it means to compete—together. \nAt the conclusion of the program\, one current Springfield College student-athlete will be recognized as the recipient of the Tom Waddell Leveling the Playing Field Award\, given annually to someone whose off-the-field commitments have helped build a more just society. \nThis event\, presented by the Division of Campus Life and Community Engagement and the Department of Athletics\, is free and open to the Springfield College community and the public. \nFor more information\, please contact the Division of Campus Life and Community Engagement at campuslife@springfield.edu or (413) 748-3101. \nSupported by the Dr. Tom Waddell ’59 Fund.\nFind Out More About the Fund or Make Your Gift
URL:https://gulick.springfield.edu/event-calendar/event-item/the-11th-annual-tom-waddell-symposium-for-sports-and-values/
LOCATION:Cleveland E. and Phyllis B. Dodge Room\, Flynn Campus Union\, 263 Alden Street\, Springfield\, MA\, 01109\, United States
CATEGORIES:Speakers / Lectures / Workshops
ATTACH;FMTTYPE=image/jpeg:https://gulick.springfield.edu/event-calendar/wp-content/uploads/sites/17/2026/03/Tom-Waddell-Symposium-Team-Support.jpg
END:VEVENT
BEGIN:VEVENT
DTSTART;TZID=America/New_York:20260214T100000
DTEND;TZID=America/New_York:20260214T130000
DTSTAMP:20260425T072020
CREATED:20260123T202756Z
LAST-MODIFIED:20260123T202756Z
UID:10000954-1771063200-1771074000@gulick.springfield.edu
SUMMARY:National Girls and Women in Sports Day
DESCRIPTION:We are excited to host National Girls and Women in Sports Day at Springfield College! Girls in grades K through 6 are invited to attend a multisport clinic and meet student-athletes from our women’s varsity sports teams on Saturday\, February 14. The clinic is free to attend. \nIn addition\, pizza will be provided at 12:45 PM for all participants. We encourage all participants and their families to attend the women’s basketball game that begins at 1:00 PM \nCheck-in begins at 10:00 AM in the Physical Education Complex. \nRegister Now!
URL:https://gulick.springfield.edu/event-calendar/event-item/national-girls-and-women-in-sports-day/
LOCATION:Springfield College\, 263 Alden St\, Springfield\, MA\, 01109\, United States
CATEGORIES:Speakers / Lectures / Workshops
ATTACH;FMTTYPE=image/jpeg:https://gulick.springfield.edu/event-calendar/wp-content/uploads/sites/17/2025/01/national-girls-and-women-in-sports-day-2025.jpg
GEO:42.103373;-72.556014
X-APPLE-STRUCTURED-LOCATION;VALUE=URI;X-ADDRESS=Springfield College 263 Alden St Springfield MA 01109 United States;X-APPLE-RADIUS=500;X-TITLE=263 Alden St:geo:-72.556014,42.103373
END:VEVENT
END:VCALENDAR