BEGIN:VCALENDAR
VERSION:2.0
PRODID:-//Event Calendar - ECPv6.9.0//NONSGML v1.0//EN
CALSCALE:GREGORIAN
METHOD:PUBLISH
X-ORIGINAL-URL:https://gulick.springfield.edu/event-calendar
X-WR-CALDESC:Events for Event Calendar
REFRESH-INTERVAL;VALUE=DURATION:PT1H
X-Robots-Tag:noindex
X-PUBLISHED-TTL:PT1H
BEGIN:VTIMEZONE
TZID:America/New_York
BEGIN:DAYLIGHT
TZOFFSETFROM:-0500
TZOFFSETTO:-0400
TZNAME:EDT
DTSTART:20260308T070000
END:DAYLIGHT
BEGIN:STANDARD
TZOFFSETFROM:-0400
TZOFFSETTO:-0500
TZNAME:EST
DTSTART:20261101T060000
END:STANDARD
END:VTIMEZONE
BEGIN:VEVENT
DTSTART;TZID=America/New_York:20260110T120000
DTEND;TZID=America/New_York:20260110T160000
DTSTAMP:20260423T004242
CREATED:20251104T131348Z
LAST-MODIFIED:20260106T180355Z
UID:10000899-1768046400-1768060800@gulick.springfield.edu
SUMMARY:Boston Lacrosse Alumni Gathering
DESCRIPTION:The Warehouse Kitchen & Sports Bar\, 40 Broad Street\, Boston\, MA  02109 \nRegister Now\nQuestions about accessibility for this event:\nDamon Markiewicz\n(413) 748-4888\ndmarkiewicz@springfieldcollege.edu
URL:https://gulick.springfield.edu/event-calendar/event-item/mens-lacrosse-alumni-social/
CATEGORIES:Alumni
ATTACH;FMTTYPE=image/png:https://gulick.springfield.edu/event-calendar/wp-content/uploads/sites/17/2025/11/kitchen-bar-logo-white-bg.png
END:VEVENT
END:VCALENDAR