BEGIN:VCALENDAR
VERSION:2.0
PRODID:-//Event Calendar - ECPv6.9.0//NONSGML v1.0//EN
CALSCALE:GREGORIAN
METHOD:PUBLISH
X-WR-CALNAME:Event Calendar
X-ORIGINAL-URL:https://gulick.springfield.edu/event-calendar
X-WR-CALDESC:Events for Event Calendar
REFRESH-INTERVAL;VALUE=DURATION:PT1H
X-Robots-Tag:noindex
X-PUBLISHED-TTL:PT1H
BEGIN:VTIMEZONE
TZID:America/New_York
BEGIN:DAYLIGHT
TZOFFSETFROM:-0500
TZOFFSETTO:-0400
TZNAME:EDT
DTSTART:20250309T070000
END:DAYLIGHT
BEGIN:STANDARD
TZOFFSETFROM:-0400
TZOFFSETTO:-0500
TZNAME:EST
DTSTART:20251102T060000
END:STANDARD
END:VTIMEZONE
BEGIN:VEVENT
DTSTART;TZID=America/New_York:20251206T130000
DTEND;TZID=America/New_York:20251206T150000
DTSTAMP:20260423T034401
CREATED:20251104T130421Z
LAST-MODIFIED:20251105T192623Z
UID:10000897-1765026000-1765033200@gulick.springfield.edu
SUMMARY:Springfield College Gymnastics First Look Instrasquad Meet
DESCRIPTION:This is a free event and no registration is required.
URL:https://gulick.springfield.edu/event-calendar/event-item/springfield-college-gymnastics-first-look-instrasquad-meet/
LOCATION:Blake Arena\, Springfield\, MA
CATEGORIES:Alumni,Faculty and Staff,Students
ATTACH;FMTTYPE=image/png:https://gulick.springfield.edu/event-calendar/wp-content/uploads/sites/17/2025/11/first-look-photo.png
ORGANIZER;CN="Alumni Relations":MAILTO:alumni@springfield.edu
END:VEVENT
BEGIN:VEVENT
DTSTART;TZID=America/New_York:20251206T180500
DTEND;TZID=America/New_York:20251206T210000
DTSTAMP:20260423T034401
CREATED:20251104T131041Z
LAST-MODIFIED:20251114T125240Z
UID:10000898-1765044300-1765054800@gulick.springfield.edu
SUMMARY:Springfield Thunderbirds – Alumni & Family Night
DESCRIPTION:Register Now & Purchase Tickets \nPlease note: Offer not valid at the MassMutual Center Box Office \nFor any questions\, please contact the Office of Institutional Advancement\, Alumni & Family Relations at 413-748-3161 or alumni@springfieldcollege.edu.
URL:https://gulick.springfield.edu/event-calendar/event-item/springfield-thunderbirds-alumni-family-night/
LOCATION:MassMutual Center\, 1277 Main Street\, Springfield\, MA\, 01103\, United States
CATEGORIES:Alumni
ATTACH;FMTTYPE=image/jpeg:https://gulick.springfield.edu/event-calendar/wp-content/uploads/sites/17/2025/11/thunderbirds-flyer.jpg
ORGANIZER;CN="Alumni Relations":MAILTO:alumni@springfield.edu
END:VEVENT
END:VCALENDAR